BEGIN:VCALENDAR
VERSION:2.0
PRODID:-//pretix//pretix.eu//
BEGIN:VTIMEZONE
TZID:Europe/Berlin
BEGIN:STANDARD
DTSTART:20001029T040000
RRULE:FREQ=YEARLY;BYDAY=-1SU;BYMONTH=10
TZNAME:CET
TZOFFSETFROM:+0200
TZOFFSETTO:+0100
END:STANDARD
BEGIN:DAYLIGHT
DTSTART:20000326T030000
RRULE:FREQ=YEARLY;BYDAY=-1SU;BYMONTH=3
TZNAME:CEST
TZOFFSETFROM:+0100
TZOFFSETTO:+0200
END:DAYLIGHT
END:VTIMEZONE
BEGIN:VEVENT
UID:pretix-dpsgwitten-Hike25-0@anmeldung.dpsg-witten.de
DTSTART;TZID=Europe/Berlin:20250712T073000
DTEND;TZID=Europe/Berlin:20250713T120000
DESCRIPTION:Tickets: https://anmeldung.dpsg-witten.de/Hike25/\nVeranstalter
 : DPSG Wittener Löwen
DTSTAMP:20260419T145157Z
LOCATION:DPSG Stamm Wittener Löwen (St. Franziskus)\, Herbeder Str. 28\, 5
 8455 Witten
SUMMARY:PfadiHike2025
END:VEVENT
END:VCALENDAR
