BEGIN:VCALENDAR
VERSION:2.0
PRODID:-//pretix//pretix.eu//
BEGIN:VTIMEZONE
TZID:Europe/Berlin
BEGIN:STANDARD
DTSTART:20001029T040000
RRULE:FREQ=YEARLY;BYDAY=-1SU;BYMONTH=10
TZNAME:CET
TZOFFSETFROM:+0200
TZOFFSETTO:+0100
END:STANDARD
BEGIN:DAYLIGHT
DTSTART:20000326T030000
RRULE:FREQ=YEARLY;BYDAY=-1SU;BYMONTH=3
TZNAME:CEST
TZOFFSETFROM:+0100
TZOFFSETTO:+0200
END:DAYLIGHT
END:VTIMEZONE
BEGIN:VEVENT
UID:pretix-dpsgwitten-ev202502-0@anmeldung.dpsg-witten.de
DTSTART;TZID=Europe/Berlin:20250202T104500
DTEND;TZID=Europe/Berlin:20250202T114500
DESCRIPTION:Tickets: https://anmeldung.dpsg-witten.de/ev202502/\nVeranstalt
 er: DPSG Wittener Löwen
DTSTAMP:20260419T150022Z
LOCATION:Pfarrheim St. Franziskus\, Herbeder Straße 32\, 58455 Witten
SUMMARY:Elternversammlung
END:VEVENT
END:VCALENDAR
