BEGIN:VCALENDAR
VERSION:2.0
PRODID:-//pretix//pretix.eu//
BEGIN:VTIMEZONE
TZID:Europe/Berlin
BEGIN:STANDARD
DTSTART:20001029T040000
RRULE:FREQ=YEARLY;BYDAY=-1SU;BYMONTH=10
TZNAME:CET
TZOFFSETFROM:+0200
TZOFFSETTO:+0100
END:STANDARD
BEGIN:DAYLIGHT
DTSTART:20000326T030000
RRULE:FREQ=YEARLY;BYDAY=-1SU;BYMONTH=3
TZNAME:CEST
TZOFFSETFROM:+0100
TZOFFSETTO:+0200
END:DAYLIGHT
END:VTIMEZONE
BEGIN:VEVENT
UID:pretix-dpsgwitten-georgstag24-0@anmeldung.dpsg-witten.de
DTSTART;TZID=Europe/Berlin:20240423T173000
DTEND;TZID=Europe/Berlin:20240423T183000
DESCRIPTION:Tickets: https://anmeldung.dpsg-witten.de/georgstag24/\nVeranst
 alter: DPSG Wittener Löwen
DTSTAMP:20260419T145301Z
LOCATION:Hohenstein Witten: Wir treffen uns auf der Wiese vor dem Bergerden
 kmal
SUMMARY:Georgstag 2024
END:VEVENT
END:VCALENDAR
