BEGIN:VCALENDAR
VERSION:2.0
PRODID:-//pretix//pretix.eu//
BEGIN:VTIMEZONE
TZID:Europe/Berlin
BEGIN:STANDARD
DTSTART:20001029T040000
RRULE:FREQ=YEARLY;BYDAY=-1SU;BYMONTH=10
TZNAME:CET
TZOFFSETFROM:+0200
TZOFFSETTO:+0100
END:STANDARD
BEGIN:DAYLIGHT
DTSTART:20000326T030000
RRULE:FREQ=YEARLY;BYDAY=-1SU;BYMONTH=3
TZNAME:CEST
TZOFFSETFROM:+0100
TZOFFSETTO:+0200
END:DAYLIGHT
END:VTIMEZONE
BEGIN:VEVENT
UID:pretix-dpsgwitten-piw2024-0@anmeldung.dpsg-witten.de
DTSTART;TZID=Europe/Berlin:20240517T160000
DTEND;TZID=Europe/Berlin:20240517T170000
DESCRIPTION:Tickets: https://anmeldung.dpsg-witten.de/piw2024/\nVeranstalte
 r: DPSG Wittener Löwen
DTSTAMP:20260419T145203Z
LOCATION:Zum Weitstein 50\, 56479 Westernohe
SUMMARY:Pfingsten in Westernohe 2024
END:VEVENT
END:VCALENDAR
