BEGIN:VCALENDAR
VERSION:2.0
PRODID:-//pretix//pretix.eu//
BEGIN:VTIMEZONE
TZID:Europe/Berlin
BEGIN:STANDARD
DTSTART:20001029T040000
RRULE:FREQ=YEARLY;BYDAY=-1SU;BYMONTH=10
TZNAME:CET
TZOFFSETFROM:+0200
TZOFFSETTO:+0100
END:STANDARD
BEGIN:DAYLIGHT
DTSTART:20000326T030000
RRULE:FREQ=YEARLY;BYDAY=-1SU;BYMONTH=3
TZNAME:CEST
TZOFFSETFROM:+0100
TZOFFSETTO:+0200
END:DAYLIGHT
END:VTIMEZONE
BEGIN:VEVENT
UID:pretix-dpsgwitten-vqppk-0@anmeldung.dpsg-witten.de
DTSTART;TZID=Europe/Berlin:20260222T103000
DTEND;TZID=Europe/Berlin:20260222T113000
DESCRIPTION:Tickets: https://anmeldung.dpsg-witten.de/vqppk/\nVeranstalter:
  DPSG Wittener Löwen
DTSTAMP:20260419T145131Z
LOCATION:Herbeder Str. 28\, 58452 Witten
SUMMARY:Aufräumtag 2026 Pfarrheim St. Franziskus
END:VEVENT
END:VCALENDAR
